BEGIN:VCALENDAR
VERSION:2.0
PRODID:-//Orangewood Foundation - ECPv6.15.18//NONSGML v1.0//EN
CALSCALE:GREGORIAN
METHOD:PUBLISH
X-WR-CALNAME:Orangewood Foundation
X-ORIGINAL-URL:https://orangewoodfoundation.org
X-WR-CALDESC:Events for Orangewood Foundation
REFRESH-INTERVAL;VALUE=DURATION:PT1H
X-Robots-Tag:noindex
X-PUBLISHED-TTL:PT1H
BEGIN:VTIMEZONE
TZID:America/Los_Angeles
BEGIN:DAYLIGHT
TZOFFSETFROM:-0800
TZOFFSETTO:-0700
TZNAME:PDT
DTSTART:20250309T100000
END:DAYLIGHT
BEGIN:STANDARD
TZOFFSETFROM:-0700
TZOFFSETTO:-0800
TZNAME:PST
DTSTART:20251102T090000
END:STANDARD
BEGIN:DAYLIGHT
TZOFFSETFROM:-0800
TZOFFSETTO:-0700
TZNAME:PDT
DTSTART:20260308T100000
END:DAYLIGHT
BEGIN:STANDARD
TZOFFSETFROM:-0700
TZOFFSETTO:-0800
TZNAME:PST
DTSTART:20261101T090000
END:STANDARD
BEGIN:DAYLIGHT
TZOFFSETFROM:-0800
TZOFFSETTO:-0700
TZNAME:PDT
DTSTART:20270314T100000
END:DAYLIGHT
BEGIN:STANDARD
TZOFFSETFROM:-0700
TZOFFSETTO:-0800
TZNAME:PST
DTSTART:20271107T090000
END:STANDARD
END:VTIMEZONE
BEGIN:VEVENT
DTSTART;TZID=America/Los_Angeles:20260501T123000
DTEND;TZID=America/Los_Angeles:20260514T130000
DTSTAMP:20260421T013324
CREATED:20251028T162001Z
LAST-MODIFIED:20251028T162001Z
UID:10000252-1777638600-1778763600@orangewoodfoundation.org
SUMMARY:Mother’s & Father’s Day Gifts | 44 Women for Orangewood
DESCRIPTION:This Mother’s and Father’s Day\, we are celebrating the young parents in our programs with a small but special gift to make them feel special. We are collecting online donations to purchase a thoughtful gift and gift card. Your contribution can help brighten a parent’s day. \nStay tuned information on how to donate will be shared soon!
URL:https://orangewoodfoundation.org/event/mothers-fathers-day-gifts/
LOCATION:Orangewood Foundation\, 1575 17th St\, Santa Ana\, CA\, 92705\, United States
CATEGORIES:44 Women
ATTACH;FMTTYPE=image/jpeg:https://orangewoodfoundation.org/wp-content/uploads/2025/10/Extra-Photos.jpg
ORGANIZER;CN="44 Women Auxiliary for Orangewood Foundation":MAILTO:info@orangewoodfoundation.org
END:VEVENT
BEGIN:VEVENT
DTSTART;TZID=America/Los_Angeles:20260505T100000
DTEND;TZID=America/Los_Angeles:20260505T130000
DTSTAMP:20260421T013324
CREATED:20251028T161205Z
LAST-MODIFIED:20260408T175153Z
UID:10000251-1777975200-1777986000@orangewoodfoundation.org
SUMMARY:44 Women for Orangewood Lunch Volunteers
DESCRIPTION:Join fellow 44 Women members in preparing and serving lunch for the youth at Orangewood Foundation. Volunteers will help cook in the kitchen\, share a meal\, and connect with the young people we serve.Stay tuned—registration details will be shared soon!
URL:https://orangewoodfoundation.org/event/44-women-for-orangewood-lunch-volunteers/
LOCATION:Orangewood Foundation\, 1575 17th St\, Santa Ana\, CA\, 92705\, United States
CATEGORIES:44 Women
ATTACH;FMTTYPE=image/jpeg:https://orangewoodfoundation.org/wp-content/uploads/2025/10/OW_20231207_event_110-scaled.jpg
ORGANIZER;CN="44 Women Auxiliary for Orangewood Foundation":MAILTO:info@orangewoodfoundation.org
END:VEVENT
END:VCALENDAR